BEGIN:VCALENDAR
VERSION:2.0
PRODID:-//Squarespace Inc/Squarespace 6//v6//EN
BEGIN:VEVENT
UID:5e7d96acabb56b3bf6a253c1@squarespace.com
DTSTAMP:20200327T062932Z
DTSTART:20200408T073000Z
DTEND:20200408T083000Z
SUMMARY:Zoom swimnastics session (5.30pm on Wednesday 8th April)
END:VEVENT
END:VCALENDAR
