BEGIN:VCALENDAR
VERSION:2.0
PRODID:-//Squarespace Inc/Squarespace 6//v6//EN
BEGIN:VEVENT
UID:601cb1a700355836d0bfd606@squarespace.com
DTSTAMP:20210205T030003Z
DTSTART:20210209T070000Z
DTEND:20210209T080000Z
SUMMARY:FREE! zoom swimnastics session (6.00pm on Tuesday 9th February)
END:VEVENT
END:VCALENDAR
