BEGIN:VCALENDAR
VERSION:2.0
PRODID:-//Squarespace Inc/Squarespace 6//v6//EN
BEGIN:VEVENT
UID:603413fddb343d7f89740fa0@squarespace.com
DTSTAMP:20210222T202909Z
DTSTART:20210309T070000Z
DTEND:20210309T080000Z
SUMMARY:Zoom swimnastics session (6.00pm on Tuesday 9th March)
END:VEVENT
END:VCALENDAR
