BEGIN:VCALENDAR
VERSION:2.0
PRODID:-//Squarespace Inc/Squarespace 6//v6//EN
BEGIN:VEVENT
UID:5e9cffc68bfd225cafd47e58@squarespace.com
DTSTAMP:20200420T015057Z
DTSTART:20200508T230000Z
DTEND:20200509T000000Z
SUMMARY:Zoom swimnastics session (9.00am on Saturday 9th May)
END:VEVENT
END:VCALENDAR
